BEGIN:VCALENDAR
VERSION:2.0
PRODID:-//CERN//INDICO//EN
BEGIN:VEVENT
SUMMARY:hogehoge999
DTSTART;VALUE=DATE-TIME:20260422T020000Z
DTEND;VALUE=DATE-TIME:20260422T040000Z
DTSTAMP;VALUE=DATE-TIME:20260422T191359Z
UID:indico-event-220@indico.nitep.omu.ac.jp
DESCRIPTION:x\n\nhttps://indico.nitep.osaka-cu.ac.jp/event/220/
LOCATION:
URL:https://indico.nitep.osaka-cu.ac.jp/event/220/
END:VEVENT
END:VCALENDAR
